BEGIN:VCALENDAR
VERSION:2.0
PRODID:-//baimax360.com - ECPv6.15.20//NONSGML v1.0//EN
CALSCALE:GREGORIAN
METHOD:PUBLISH
X-WR-CALNAME:baimax360.com
X-ORIGINAL-URL:https://baimax360.com
X-WR-CALDESC:Eventos para baimax360.com
REFRESH-INTERVAL;VALUE=DURATION:PT1H
X-Robots-Tag:noindex
X-PUBLISHED-TTL:PT1H
BEGIN:VTIMEZONE
TZID:UTC
BEGIN:STANDARD
TZOFFSETFROM:+0000
TZOFFSETTO:+0000
TZNAME:UTC
DTSTART:20250101T000000
END:STANDARD
END:VTIMEZONE
BEGIN:VEVENT
DTSTART;TZID=UTC:20260423T200000
DTEND;TZID=UTC:20260423T210000
DTSTAMP:20260420T081835
CREATED:20260411T010811Z
LAST-MODIFIED:20260411T010811Z
UID:888-1776974400-1776978000@baimax360.com
SUMMARY:BAIMAX CHALLENGE
DESCRIPTION:
URL:https://baimax360.com/event/baimax-challenge/
LOCATION:BAIMAX\, EL SANTO DE LA ISIDRA 10\, MADRID\, MADRID\, 28041\, United States
ORGANIZER;CN="BAIMAX":MAILTO:baimaxes@gmail.com
END:VEVENT
END:VCALENDAR